BEGIN:VCALENDAR
VERSION:2.0
PRODID:-//https://villageofchesterns.ca//NONSGML kigkonsult.se iCalcreator 
 2.29.29//
CALSCALE:GREGORIAN
METHOD:PUBLISH
UID:9c886af8-22b3-4294-9885-b739cf83cab6
X-WR-CALNAME:JCal Pro Calendar
X-WR-CALDESC:Your online events calendar
X-WR-TIMEZONE:America/Halifax
BEGIN:VTIMEZONE
TZID:America/Halifax
BEGIN:STANDARD
TZNAME:AST
DTSTART:20251102T020000
TZOFFSETFROM:-0300
TZOFFSETTO:-0400
RDATE:20261101T020000
END:STANDARD
BEGIN:DAYLIGHT
TZNAME:ADT
DTSTART:20260308T020000
TZOFFSETFROM:-0400
TZOFFSETTO:-0300
RDATE:20270314T020000
END:DAYLIGHT
END:VTIMEZONE
BEGIN:VEVENT
UID:20250115T180000AST-3199U6DoA6@https://villageofchesterns.ca/
DTSTAMP:20260421T142140Z
CATEGORIES:Commission
DESCRIPTION:<p>Regular monthly meeting of the Village of Chester Commission
 .</p>\n<p>In-person: 27 Pleasant Street\, Chester<br />Livestream: <a href
 ='https://us02web.zoom.us/j/81480733054' target='_blank' rel='noopener'>Zo
 om</a> or <a href='https://www.youtube.com/@villageofchesterns' target='_b
 lank' rel='noopener'>YouTube Live</a> (meeting videos are also archived on
  YouTube)</p>\n<p>Agendas/minutes are available here: <a href='commission/
 meeting-agendas-and-minutes.html?own=0'>https://villageofchesterns.ca/comm
 ission/meeting-agendas-and-minutes.html?own=0</a></p>\n<p>&nbsp\;</p>
DTSTART;TZID=America/Halifax:20250611T190000
DTEND;TZID=America/Halifax:20250611T190000
SUMMARY:Village Commission Meeting
URL:https://villageofchesterns.ca/36-commission/5933-village-commission-mee
 ting.html
X-ALT-DESC;FMTTYPE=TEXT/HTML:<p>Regular monthly meeting of the Village of C
 hester Commission.</p>\n<p>In-person: 27 Pleasant Street\, Chester<br />Li
 vestream: <a href='https://us02web.zoom.us/j/81480733054' target='_blank' 
 rel='noopener'>Zoom</a> or <a href='https://www.youtube.com/@villageofches
 terns' target='_blank' rel='noopener'>YouTube Live</a> (meeting videos are
  also archived on YouTube)</p>\n<p>Agendas/minutes are available here: <a 
 href='commission/meeting-agendas-and-minutes.html?own=0'>https://villageof
 chesterns.ca/commission/meeting-agendas-and-minutes.html?own=0</a></p>\n<p
 >&nbsp\;</p>
END:VEVENT
END:VCALENDAR
