BEGIN:VCALENDAR
VERSION:2.0
PRODID:-//https://villageofchesterns.ca//NONSGML kigkonsult.se iCalcreator 
 2.29.29//
CALSCALE:GREGORIAN
METHOD:PUBLISH
UID:61089324-8525-43b4-9fb7-11a67ef92d8c
X-WR-CALNAME:JCal Pro Calendar
X-WR-CALDESC:Your online events calendar
X-WR-TIMEZONE:America/Halifax
BEGIN:VTIMEZONE
TZID:America/Halifax
BEGIN:STANDARD
TZNAME:AST
DTSTART:20251102T020000
TZOFFSETFROM:-0300
TZOFFSETTO:-0400
RDATE:20261101T020000
END:STANDARD
BEGIN:DAYLIGHT
TZNAME:ADT
DTSTART:20260308T020000
TZOFFSETFROM:-0400
TZOFFSETTO:-0300
RDATE:20270314T020000
END:DAYLIGHT
END:VTIMEZONE
BEGIN:VEVENT
UID:20250614T110000ADT-3520v9OfHu@https://villageofchesterns.ca/
DTSTAMP:20260421T142131Z
CATEGORIES:Commission
DESCRIPTION:<p>Poll located at Village Commission office\, 27 Pleasant Stre
 et</p>\n<p>For more information: <a href='elections.html'>https://villageo
 fchesterns.ca/elections.html</a></p>
DTSTART;TZID=America/Halifax:20250614T110000
DTEND;TZID=America/Halifax:20250614T190000
SUMMARY:*CANCELLED* Annual Village Election ADVANCE POLL
URL:https://villageofchesterns.ca/36-commission/5966-annual-village-electio
 n-advance-poll.html
X-ALT-DESC;FMTTYPE=TEXT/HTML:<p>Poll located at Village Commission office\,
  27 Pleasant Street</p>\n<p>For more information: <a href='elections.html'
 >https://villageofchesterns.ca/elections.html</a></p>
END:VEVENT
END:VCALENDAR
