BEGIN:VCALENDAR
VERSION:2.0
PRODID:-//https://villageofchesterns.ca//NONSGML kigkonsult.se iCalcreator 
 2.29.29//
CALSCALE:GREGORIAN
METHOD:PUBLISH
UID:ccacd21f-aef0-4bdd-b044-02baa3314424
X-WR-CALNAME:JCal Pro Calendar
X-WR-CALDESC:Your online events calendar
X-WR-TIMEZONE:America/Halifax
BEGIN:VTIMEZONE
TZID:America/Halifax
BEGIN:STANDARD
TZNAME:AST
DTSTART:20251102T020000
TZOFFSETFROM:-0300
TZOFFSETTO:-0400
RDATE:20261101T020000
END:STANDARD
BEGIN:DAYLIGHT
TZNAME:ADT
DTSTART:20260308T020000
TZOFFSETFROM:-0400
TZOFFSETTO:-0300
RDATE:20270314T020000
END:DAYLIGHT
END:VTIMEZONE
BEGIN:VEVENT
UID:20250611T183000ADT-2700BSHVZv@https://villageofchesterns.ca/
DTSTAMP:20260421T142032Z
CATEGORIES:Commission
DESCRIPTION:<p>The Chester Village Commission's Annual General Meeting is h
 eld in-person at 27 Pleasant Street and on livestream.</p>\n<p>Livestream:
  <a href='https://us02web.zoom.us/j/87131809971?pwd=KSNEHQTuhms1VZSLiCMzoV
 vR7JBocz.1' target='_blank' rel='noopener'>Zoom</a> or <a href='https://ww
 w.youtube.com/@villageofchesterns' target='_blank' rel='noopener'>YouTube<
 /a></p>\n<p>Agendas and minutes: <a href='commission/meeting-agendas-and-m
 inutes.html?own=0'>https://villageofchesterns.ca/commission/meeting-agenda
 s-and-minutes.html?own=0</a></p>\n<p>&nbsp\;</p>
DTSTART;TZID=America/Halifax:20250611T183000
DTEND;TZID=America/Halifax:20250611T183000
SUMMARY:Village Commission AGM
URL:https://villageofchesterns.ca/36-commission/5967-village-commission-agm
 .html
X-ALT-DESC;FMTTYPE=TEXT/HTML:<p>The Chester Village Commission's Annual Gen
 eral Meeting is held in-person at 27 Pleasant Street and on livestream.</p
 >\n<p>Livestream: <a href='https://us02web.zoom.us/j/87131809971?pwd=KSNEH
 QTuhms1VZSLiCMzoVvR7JBocz.1' target='_blank' rel='noopener'>Zoom</a> or <a
  href='https://www.youtube.com/@villageofchesterns' target='_blank' rel='n
 oopener'>YouTube</a></p>\n<p>Agendas and minutes: <a href='commission/meet
 ing-agendas-and-minutes.html?own=0'>https://villageofchesterns.ca/commissi
 on/meeting-agendas-and-minutes.html?own=0</a></p>\n<p>&nbsp\;</p>
END:VEVENT
END:VCALENDAR
