BEGIN:VCALENDAR
VERSION:2.0
PRODID:-//https://villageofchesterns.ca//NONSGML kigkonsult.se iCalcreator 
 2.29.29//
CALSCALE:GREGORIAN
METHOD:PUBLISH
UID:3cd2e944-9122-49fd-8ffc-8c73f98bd174
X-WR-CALNAME:JCal Pro Calendar
X-WR-CALDESC:Your online events calendar
X-WR-TIMEZONE:America/Halifax
BEGIN:VTIMEZONE
TZID:America/Halifax
BEGIN:STANDARD
TZNAME:AST
DTSTART:20251102T020000
TZOFFSETFROM:-0300
TZOFFSETTO:-0400
RDATE:20261101T020000
END:STANDARD
BEGIN:DAYLIGHT
TZNAME:ADT
DTSTART:20260308T020000
TZOFFSETFROM:-0400
TZOFFSETTO:-0300
RDATE:20270314T020000
END:DAYLIGHT
END:VTIMEZONE
BEGIN:VEVENT
UID:20250604T090000ADT-2585UvjAlv@https://villageofchesterns.ca/
DTSTAMP:20260421T142140Z
CATEGORIES:Commission
DESCRIPTION:<p>Nomination applications must be submitted in writing between
  9am-5pm to the Clerk/Treasurer.</p>\n<p>For more information and a Nomina
 tion package: <a href='elections.html'>https://villageofchesterns.ca/elect
 ions.html</a></p>\n<p>&nbsp\;</p>
DTSTART;TZID=America/Halifax:20250604T090000
DTEND;TZID=America/Halifax:20250604T170000
SUMMARY:Village Election Nomination Day
URL:https://villageofchesterns.ca/36-commission/5968-village-election-nomin
 ation-day.html
X-ALT-DESC;FMTTYPE=TEXT/HTML:<p>Nomination applications must be submitted i
 n writing between 9am-5pm to the Clerk/Treasurer.</p>\n<p>For more informa
 tion and a Nomination package: <a href='elections.html'>https://villageofc
 hesterns.ca/elections.html</a></p>\n<p>&nbsp\;</p>
END:VEVENT
END:VCALENDAR
