BEGIN:VCALENDAR
VERSION:2.0
PRODID:-//https://villageofchesterns.ca//NONSGML kigkonsult.se iCalcreator 
 2.29.29//
CALSCALE:GREGORIAN
METHOD:PUBLISH
UID:97c7f90c-bf46-4568-8f41-c481ea132282
X-WR-CALNAME:JCal Pro Calendar
X-WR-CALDESC:Your online events calendar
X-WR-TIMEZONE:America/Halifax
BEGIN:VTIMEZONE
TZID:America/Halifax
BEGIN:STANDARD
TZNAME:AST
DTSTART:20251102T020000
TZOFFSETFROM:-0300
TZOFFSETTO:-0400
RDATE:20261101T020000
END:STANDARD
BEGIN:DAYLIGHT
TZNAME:ADT
DTSTART:20260308T020000
TZOFFSETFROM:-0400
TZOFFSETTO:-0300
RDATE:20270314T020000
END:DAYLIGHT
END:VTIMEZONE
BEGIN:VEVENT
UID:20250506T180000ADT-4629l9JOwx@https://villageofchesterns.ca/
DTSTAMP:20260421T142032Z
CATEGORIES:Commission
DESCRIPTION:<p>Agendas and Minutes: <a href='commission/meeting-agendas-and
 -minutes.html?own=0'>https://villageofchesterns.ca/commission/meeting-agen
 das-and-minutes.html?own=0</a></p>\n<p>Livestream: <a href='https://us02we
 b.zoom.us/j/84752907805' target='_blank' rel='noopener'>https://us02web.zo
 om.us/j/84752907805</a> or <a href='https://www.youtube.com/@villageofches
 terns'><em></em></a><a href='https://www.youtube.com/@villageofchesterns' 
 target='_blank' rel='noopener'><em>https://www.youtube.com/@villageofchest
 erns</em></a></p>\n<p>&nbsp\;</p>
DTSTART;TZID=America/Halifax:20250506T180000
DTEND;TZID=America/Halifax:20250506T180000
SUMMARY:Audit Committee
URL:https://villageofchesterns.ca/36-commission/5969-audit-committee.html
X-ALT-DESC;FMTTYPE=TEXT/HTML:<p>Agendas and Minutes: <a href='commission/me
 eting-agendas-and-minutes.html?own=0'>https://villageofchesterns.ca/commis
 sion/meeting-agendas-and-minutes.html?own=0</a></p>\n<p>Livestream: <a hre
 f='https://us02web.zoom.us/j/84752907805' target='_blank' rel='noopener'>h
 ttps://us02web.zoom.us/j/84752907805</a> or <a href='https://www.youtube.c
 om/@villageofchesterns'><em></em></a><a href='https://www.youtube.com/@vil
 lageofchesterns' target='_blank' rel='noopener'><em>https://www.youtube.co
 m/@villageofchesterns</em></a></p>\n<p>&nbsp\;</p>
END:VEVENT
END:VCALENDAR
