BEGIN:VCALENDAR
VERSION:2.0
PRODID:-//https://villageofchesterns.ca//NONSGML kigkonsult.se iCalcreator 
 2.29.29//
CALSCALE:GREGORIAN
METHOD:PUBLISH
UID:222112ee-2c87-4852-bb80-47b05428f93d
X-WR-CALNAME:JCal Pro Calendar
X-WR-CALDESC:Your online events calendar
X-WR-TIMEZONE:America/Halifax
BEGIN:VTIMEZONE
TZID:America/Halifax
BEGIN:STANDARD
TZNAME:AST
DTSTART:20251102T020000
TZOFFSETFROM:-0300
TZOFFSETTO:-0400
RDATE:20261101T020000
END:STANDARD
BEGIN:DAYLIGHT
TZNAME:ADT
DTSTART:20260308T020000
TZOFFSETFROM:-0400
TZOFFSETTO:-0300
RDATE:20270314T020000
END:DAYLIGHT
END:VTIMEZONE
BEGIN:VEVENT
UID:20250506T190000ADT-6036KC4eix@https://villageofchesterns.ca/
DTSTAMP:20260421T142032Z
CATEGORIES:Commission
DESCRIPTION:<p>Agendas and Minutes: <a href='commission/meeting-agendas-and
 -minutes.html?own=0'>https://villageofchesterns.ca/commission/meeting-agen
 das-and-minutes.html?own=0</a></p>\n<p>Special in-camera meeting held at t
 he end of Audit Committee meeting. In-person only at 27 Pleasant Street\, 
 Chester NS</p>
DTSTART;TZID=America/Halifax:20250506T190000
DTEND;TZID=America/Halifax:20250506T190000
SUMMARY:Special Commission Meeting
URL:https://villageofchesterns.ca/36-commission/5970-special-commission-mee
 ting.html
X-ALT-DESC;FMTTYPE=TEXT/HTML:<p>Agendas and Minutes: <a href='commission/me
 eting-agendas-and-minutes.html?own=0'>https://villageofchesterns.ca/commis
 sion/meeting-agendas-and-minutes.html?own=0</a></p>\n<p>Special in-camera 
 meeting held at the end of Audit Committee meeting. In-person only at 27 P
 leasant Street\, Chester NS</p>
END:VEVENT
END:VCALENDAR
