BEGIN:VCALENDAR
VERSION:2.0
PRODID:-//https://villageofchesterns.ca//NONSGML kigkonsult.se iCalcreator 
 2.29.29//
CALSCALE:GREGORIAN
METHOD:PUBLISH
UID:95f68c5d-8669-43c4-af62-5c09c73b3a8b
X-WR-CALNAME:JCal Pro Calendar
X-WR-CALDESC:Your online events calendar
X-WR-TIMEZONE:America/Halifax
BEGIN:VTIMEZONE
TZID:America/Halifax
BEGIN:STANDARD
TZNAME:AST
DTSTART:20251102T020000
TZOFFSETFROM:-0300
TZOFFSETTO:-0400
RDATE:20261101T020000
END:STANDARD
BEGIN:DAYLIGHT
TZNAME:ADT
DTSTART:20260308T020000
TZOFFSETFROM:-0400
TZOFFSETTO:-0300
RDATE:20270314T020000
END:DAYLIGHT
END:VTIMEZONE
BEGIN:VEVENT
UID:20250716T170000ADT-3309Om4AnP@https://villageofchesterns.ca/
DTSTAMP:20260421T142139Z
CATEGORIES:Commission
DESCRIPTION:<p>Monthly meeting of the Village of Chester Commission. NOTE: 
 Time is moved earlier to 5pm for the summer.</p>\n<p>In-person: 27 Pleasan
 t Street\, Chester<br />Livestream: <a href='https://us02web.zoom.us/j/850
 00540546' target='_blank' rel='noopener'>Zoom</a> or <a href='https://www.
 youtube.com/@villageofchesterns' target='_blank' rel='noopener'>YouTube</a
 > Live (meeting videos are also archived on YouTube)</p>\n<p>Agendas/minut
 es are available here: <a href='commission/meeting-agendas-and-minutes.htm
 l?own=0'>https://villageofchesterns.ca/commission/meeting-agendas-and-minu
 tes.html?own=0</a></p>\n<p>&nbsp\;</p>
DTSTART;TZID=America/Halifax:20250716T170000
DTEND;TZID=America/Halifax:20250716T170000
RRULE:FREQ=MONTHLY;COUNT=2;INTERVAL=1;BYDAY=WE;BYSETPOS=3
SUMMARY:Village Commission Meeting
URL:https://villageofchesterns.ca/36-commission/5973-village-commission-mee
 ting.html
X-ALT-DESC;FMTTYPE=TEXT/HTML:<p>Monthly meeting of the Village of Chester C
 ommission. NOTE: Time is moved earlier to 5pm for the summer.</p>\n<p>In-p
 erson: 27 Pleasant Street\, Chester<br />Livestream: <a href='https://us02
 web.zoom.us/j/85000540546' target='_blank' rel='noopener'>Zoom</a> or <a h
 ref='https://www.youtube.com/@villageofchesterns' target='_blank' rel='noo
 pener'>YouTube</a> Live (meeting videos are also archived on YouTube)</p>
 \n<p>Agendas/minutes are available here: <a href='commission/meeting-agend
 as-and-minutes.html?own=0'>https://villageofchesterns.ca/commission/meetin
 g-agendas-and-minutes.html?own=0</a></p>\n<p>&nbsp\;</p>
END:VEVENT
END:VCALENDAR
