BEGIN:VCALENDAR
VERSION:2.0
PRODID:-//https://villageofchesterns.ca//NONSGML kigkonsult.se iCalcreator 
 2.29.29//
CALSCALE:GREGORIAN
METHOD:PUBLISH
UID:65e19721-83c4-4065-9d3e-e413a5340af3
X-WR-CALNAME:JCal Pro Calendar
X-WR-CALDESC:Your online events calendar
X-WR-TIMEZONE:America/Halifax
BEGIN:VTIMEZONE
TZID:America/Halifax
BEGIN:STANDARD
TZNAME:AST
DTSTART:20251102T020000
TZOFFSETFROM:-0300
TZOFFSETTO:-0400
RDATE:20261101T020000
END:STANDARD
BEGIN:DAYLIGHT
TZNAME:ADT
DTSTART:20260308T020000
TZOFFSETFROM:-0400
TZOFFSETTO:-0300
RDATE:20270314T020000
END:DAYLIGHT
END:VTIMEZONE
BEGIN:VEVENT
UID:20260212T180000AST-476815dCvW@https://villageofchesterns.ca/
DTSTAMP:20260421T142130Z
CATEGORIES:Chester Fire Services Committee
DESCRIPTION:<p>Agenda will be posted here:&nbsp\;<a href='https://www.chest
 erfirecommittee.ca/agenda-minutes' target='_blank' rel='noopener'>https://
 www.chesterfirecommittee.ca/agenda-minutes</a></p>\n<p>Location: St. Steph
 en's Community Centre (Tuck Hall)\, 54 Regent Street\, Chester</p>\n<p>Liv
 estream link:&nbsp\;<br />&nbsp\; &nbsp\;Zoom:&nbsp\;<a href='https://us02
 web.zoom.us/j/82906455688?pwd=6W5QrOwxhblZsaTRebhRTqvcjsKb2a.1'>https://us
 02web.zoom.us/j/82906455688?pwd=6W5QrOwxhblZsaTRebhRTqvcjsKb2a.1</a><br />
 &nbsp\; &nbsp\;YouTube:&nbsp\;<a href='https://www.youtube.com/@ChesterFir
 eCommittee' target='_blank' rel='noopener'>https://www.youtube.com/@Cheste
 rFireCommittee</a>&nbsp\;<em>(the meeting will be archived here within 24 
 hours)</em></p>\n<p>&nbsp\;</p>
DTSTART;TZID=America/Halifax:20260212T180000
DTEND;TZID=America/Halifax:20260212T180000
SUMMARY:Chester Fire Services Committee - AGM 2026
URL:https://villageofchesterns.ca/50-chester-fire-services-committee/6022-c
 hester-fire-services-committee-agm-2026.html
X-ALT-DESC;FMTTYPE=TEXT/HTML:<p>Agenda will be posted here:&nbsp\;<a href='
 https://www.chesterfirecommittee.ca/agenda-minutes' target='_blank' rel='n
 oopener'>https://www.chesterfirecommittee.ca/agenda-minutes</a></p>\n<p>Lo
 cation: St. Stephen's Community Centre (Tuck Hall)\, 54 Regent Street\, Ch
 ester</p>\n<p>Livestream link:&nbsp\;<br />&nbsp\; &nbsp\;Zoom:&nbsp\;<a h
 ref='https://us02web.zoom.us/j/82906455688?pwd=6W5QrOwxhblZsaTRebhRTqvcjsK
 b2a.1'>https://us02web.zoom.us/j/82906455688?pwd=6W5QrOwxhblZsaTRebhRTqvcj
 sKb2a.1</a><br />&nbsp\; &nbsp\;YouTube:&nbsp\;<a href='https://www.youtub
 e.com/@ChesterFireCommittee' target='_blank' rel='noopener'>https://www.yo
 utube.com/@ChesterFireCommittee</a>&nbsp\;<em>(the meeting will be archive
 d here within 24 hours)</em></p>\n<p>&nbsp\;</p>
END:VEVENT
END:VCALENDAR
