BEGIN:VCALENDAR
VERSION:2.0
PRODID:-//https://villageofchesterns.ca//NONSGML kigkonsult.se iCalcreator 
 2.29.29//
CALSCALE:GREGORIAN
METHOD:PUBLISH
UID:6797743b-f5c5-4485-8545-2ee468086b04
X-WR-CALNAME:JCal Pro Calendar
X-WR-CALDESC:Your online events calendar
X-WR-TIMEZONE:America/Halifax
BEGIN:VTIMEZONE
TZID:America/Halifax
BEGIN:STANDARD
TZNAME:AST
DTSTART:20251102T020000
TZOFFSETFROM:-0300
TZOFFSETTO:-0400
RDATE:20261101T020000
END:STANDARD
BEGIN:DAYLIGHT
TZNAME:ADT
DTSTART:20260308T020000
TZOFFSETFROM:-0400
TZOFFSETTO:-0300
RDATE:20270314T020000
END:DAYLIGHT
END:VTIMEZONE
BEGIN:VEVENT
UID:20250211T183000AST-09985GE9fl@https://villageofchesterns.ca/
DTSTAMP:20260421T155622Z
CATEGORIES:Chester Fire Services Committee
DESCRIPTION:<p><strong>Chester Fire Services Committee </strong><br /><stro
 ng>Annual General Meeting 2025</strong></p>\n<p>Tuesday\, Feb 11\, 2025 at
  6:30 pm<br />St. Stephen's Community Centre\, 54 Regent Street\, Chester<
 /p>\n<p>Livestream: <br />&nbsp\;&nbsp\; - Zoom: <a href='https://us02web.
 zoom.us/j/83055299158?pwd=FDZZvZLcQAfTvyGtAoHuSyLRrEtPkp.1' target='_blank
 ' rel='noopener'>https://us02web.zoom.us/j/83055299158?pwd=FDZZvZLcQAfTvyG
 tAoHuSyLRrEtPkp.1</a> Meeting ID: 830 5529 9158\; Passcode: 250213<br />&n
 bsp\;&nbsp\; - YouTube: <a href='https://www.youtube.com/@ChesterFireCommi
 ttee' target='_blank' rel='noopener'>https://www.youtube.com/@ChesterFireC
 ommittee</a></p>\n<p>The agenda package will be available closer to the ev
 ent here: <a href='https://www.chesterfirecommittee.ca/agenda-minutes' tar
 get='_blank' rel='noopener'>https://www.chesterfirecommittee.ca/agenda-min
 utes</a></p>\n<p>For more information on the Chester Fire Services Committ
 ee\, visit <a href='https://www.chesterfirecommittee.ca/' target='_blank' 
 rel='noopener'>www.chesterfirecommittee.ca</a></p>
DTSTART;TZID=America/Halifax:20250211T183000
DTEND;TZID=America/Halifax:20250211T183000
SUMMARY:Chester Fire Services Committee - 2025 AGM
URL:https://villageofchesterns.ca/50-chester-fire-services-committee/5914-c
 hester-fire-services-committee-2025-agm.html
X-ALT-DESC;FMTTYPE=TEXT/HTML:<p><strong>Chester Fire Services Committee </s
 trong><br /><strong>Annual General Meeting 2025</strong></p>\n<p>Tuesday\,
  Feb 11\, 2025 at 6:30 pm<br />St. Stephen's Community Centre\, 54 Regent 
 Street\, Chester</p>\n<p>Livestream: <br />&nbsp\;&nbsp\; - Zoom: <a href=
 'https://us02web.zoom.us/j/83055299158?pwd=FDZZvZLcQAfTvyGtAoHuSyLRrEtPkp.
 1' target='_blank' rel='noopener'>https://us02web.zoom.us/j/83055299158?pw
 d=FDZZvZLcQAfTvyGtAoHuSyLRrEtPkp.1</a> Meeting ID: 830 5529 9158\; Passcod
 e: 250213<br />&nbsp\;&nbsp\; - YouTube: <a href='https://www.youtube.com/
 @ChesterFireCommittee' target='_blank' rel='noopener'>https://www.youtube.
 com/@ChesterFireCommittee</a></p>\n<p>The agenda package will be available
  closer to the event here: <a href='https://www.chesterfirecommittee.ca/ag
 enda-minutes' target='_blank' rel='noopener'>https://www.chesterfirecommit
 tee.ca/agenda-minutes</a></p>\n<p>For more information on the Chester Fire
  Services Committee\, visit <a href='https://www.chesterfirecommittee.ca/'
  target='_blank' rel='noopener'>www.chesterfirecommittee.ca</a></p>
END:VEVENT
END:VCALENDAR
