BEGIN:VCALENDAR
VERSION:2.0
PRODID:-//https://villageofchesterns.ca//NONSGML kigkonsult.se iCalcreator 
 2.29.29//
CALSCALE:GREGORIAN
METHOD:PUBLISH
UID:623e856c-e5f3-42fc-8089-4bc330516fdb
X-WR-CALNAME:JCal Pro Calendar
X-WR-CALDESC:Your online events calendar
X-WR-TIMEZONE:America/Halifax
BEGIN:VTIMEZONE
TZID:America/Halifax
BEGIN:STANDARD
TZNAME:AST
DTSTART:20251102T020000
TZOFFSETFROM:-0300
TZOFFSETTO:-0400
RDATE:20261101T020000
END:STANDARD
BEGIN:DAYLIGHT
TZNAME:ADT
DTSTART:20260308T020000
TZOFFSETFROM:-0400
TZOFFSETTO:-0300
RDATE:20270314T020000
END:DAYLIGHT
END:VTIMEZONE
BEGIN:VEVENT
UID:20250108T170000AST-7384m9aPiK@https://villageofchesterns.ca/
DTSTAMP:20260421T153804Z
CATEGORIES:Chester Fire Services Committee
DESCRIPTION:<p>Regular monthly meeting of the CFSC held in-person at the Vi
 llage Commission boardroom\, 27 Pleasant Street\, Chester.</p>\n<p>Agendas
  and minutes: <a href='https://www.chesterfirecommittee.ca/agenda-minutes'
  target='_blank' rel='noopener'>https://www.chesterfirecommittee.ca/agenda
 -minutes</a></p>\n<p><a href='https://www.chesterfirecommittee.ca' target=
 '_blank' rel='noopener'>www.chesterfirecommittee.ca</a></p>
DTSTART;TZID=America/Halifax:20250108T170000
DTEND;TZID=America/Halifax:20250108T180000
RRULE:FREQ=MONTHLY;COUNT=12;INTERVAL=1;BYDAY=WE;BYSETPOS=1
SUMMARY:Chester Fire Services Committee
URL:https://villageofchesterns.ca/50-chester-fire-services-committee/5916-c
 hester-fire-services-committee.html
X-ALT-DESC;FMTTYPE=TEXT/HTML:<p>Regular monthly meeting of the CFSC held in
 -person at the Village Commission boardroom\, 27 Pleasant Street\, Chester
 .</p>\n<p>Agendas and minutes: <a href='https://www.chesterfirecommittee.c
 a/agenda-minutes' target='_blank' rel='noopener'>https://www.chesterfireco
 mmittee.ca/agenda-minutes</a></p>\n<p><a href='https://www.chesterfirecomm
 ittee.ca' target='_blank' rel='noopener'>www.chesterfirecommittee.ca</a></
 p>
END:VEVENT
END:VCALENDAR
