BEGIN:VCALENDAR
VERSION:2.0
PRODID:-//https://villageofchesterns.ca//NONSGML kigkonsult.se iCalcreator 
 2.29.29//
CALSCALE:GREGORIAN
METHOD:PUBLISH
UID:ac8c6e5b-f162-4b8b-8388-453fe40a634e
X-WR-CALNAME:JCal Pro Calendar
X-WR-CALDESC:Your online events calendar
X-WR-TIMEZONE:America/Halifax
BEGIN:VTIMEZONE
TZID:America/Halifax
BEGIN:STANDARD
TZNAME:AST
DTSTART:20251102T020000
TZOFFSETFROM:-0300
TZOFFSETTO:-0400
RDATE:20261101T020000
END:STANDARD
BEGIN:DAYLIGHT
TZNAME:ADT
DTSTART:20260308T020000
TZOFFSETFROM:-0400
TZOFFSETTO:-0300
RDATE:20270314T020000
END:DAYLIGHT
END:VTIMEZONE
BEGIN:VEVENT
UID:20250610T180000ADT-6567SKWpZU@https://villageofchesterns.ca/
DTSTAMP:20260421T153805Z
CATEGORIES:Commission
DESCRIPTION:<p>Agendas and minutes available here:&nbsp\;<a href='commissio
 n/meeting-agendas-and-minutes.html?own=0'>https://villageofchesterns.ca/co
 mmission/meeting-agendas-and-minutes.html?own=0</a></p>\n<p>Livestream lin
 ks: Zoom&nbsp\;<a href='https://us02web.zoom.us/j/86874772036' target='_bl
 ank' rel='noopener'>https://us02web.zoom.us/j/86874772036</a>&nbsp\;or You
 Tube<a href='https://www.youtube.com/@villageofchesterns' target='_blank' 
 rel='noopener'>&nbsp\;https://www.youtube.com/@villageofchesterns</a></p>
 \n<p>&nbsp\;</p>
DTSTART;TZID=America/Halifax:20250610T180000
DTEND;TZID=America/Halifax:20250610T190000
SUMMARY:Audit Committee
URL:https://villageofchesterns.ca/36-commission/5971-audit-committee.html
X-ALT-DESC;FMTTYPE=TEXT/HTML:<p>Agendas and minutes available here:&nbsp\;<
 a href='commission/meeting-agendas-and-minutes.html?own=0'>https://village
 ofchesterns.ca/commission/meeting-agendas-and-minutes.html?own=0</a></p>\n
 <p>Livestream links: Zoom&nbsp\;<a href='https://us02web.zoom.us/j/8687477
 2036' target='_blank' rel='noopener'>https://us02web.zoom.us/j/86874772036
 </a>&nbsp\;or YouTube<a href='https://www.youtube.com/@villageofchesterns'
  target='_blank' rel='noopener'>&nbsp\;https://www.youtube.com/@villageofc
 hesterns</a></p>\n<p>&nbsp\;</p>
END:VEVENT
END:VCALENDAR
