BEGIN:VCALENDAR
VERSION:2.0
PRODID:-//https://villageofchesterns.ca//NONSGML kigkonsult.se iCalcreator 
 2.29.29//
CALSCALE:GREGORIAN
METHOD:PUBLISH
UID:18fe90d5-2306-4b2f-8ccc-9f26e22a1ff9
X-WR-CALNAME:JCal Pro Calendar
X-WR-CALDESC:Your online events calendar
X-WR-TIMEZONE:America/Halifax
BEGIN:VTIMEZONE
TZID:America/Halifax
BEGIN:STANDARD
TZNAME:AST
DTSTART:20251102T020000
TZOFFSETFROM:-0300
TZOFFSETTO:-0400
RDATE:20261101T020000
END:STANDARD
BEGIN:DAYLIGHT
TZNAME:ADT
DTSTART:20260308T020000
TZOFFSETFROM:-0400
TZOFFSETTO:-0300
RDATE:20270314T020000
END:DAYLIGHT
END:VTIMEZONE
BEGIN:VEVENT
UID:20250626T140000ADT-6734Pch4rX@https://villageofchesterns.ca/
DTSTAMP:20260421T154313Z
CATEGORIES:Chester Fire Services Committee
DESCRIPTION:<p>Brief Special Meeting of the CFSC held in-person at the Vill
 age Commission boardroom\, 27 Pleasant Street\, Chester.</p>\n<p>Agendas a
 nd minutes: <a href='https://www.chesterfirecommittee.ca/agenda-minutes'>h
 ttps://www.chesterfirecommittee.ca/agenda-minutes</a></p>\n<p><a href='htt
 ps://www.chesterfirecommittee.ca' target='_blank' rel='noopener'>www.chest
 erfirecommittee.ca</a></p>
DTSTART;TZID=America/Halifax:20250626T140000
DTEND;TZID=America/Halifax:20250626T140000
SUMMARY:Chester Fire Services Committee (Special)
URL:https://villageofchesterns.ca/50-chester-fire-services-committee/5972-c
 hester-fire-services-committee-special.html
X-ALT-DESC;FMTTYPE=TEXT/HTML:<p>Brief Special Meeting of the CFSC held in-p
 erson at the Village Commission boardroom\, 27 Pleasant Street\, Chester.<
 /p>\n<p>Agendas and minutes: <a href='https://www.chesterfirecommittee.ca/
 agenda-minutes'>https://www.chesterfirecommittee.ca/agenda-minutes</a></p>
 \n<p><a href='https://www.chesterfirecommittee.ca' target='_blank' rel='no
 opener'>www.chesterfirecommittee.ca</a></p>
END:VEVENT
END:VCALENDAR
