BEGIN:VCALENDAR
VERSION:2.0
PRODID:-//https://villageofchesterns.ca//NONSGML kigkonsult.se iCalcreator 
 2.29.29//
CALSCALE:GREGORIAN
METHOD:PUBLISH
UID:9514801c-9e04-4bb9-a666-31c8931b9111
X-WR-CALNAME:JCal Pro Calendar
X-WR-CALDESC:Your online events calendar
X-WR-TIMEZONE:America/Halifax
BEGIN:VTIMEZONE
TZID:America/Halifax
BEGIN:STANDARD
TZNAME:AST
DTSTART:20251102T020000
TZOFFSETFROM:-0300
TZOFFSETTO:-0400
RDATE:20261101T020000
END:STANDARD
BEGIN:DAYLIGHT
TZNAME:ADT
DTSTART:20260308T020000
TZOFFSETFROM:-0400
TZOFFSETTO:-0300
RDATE:20270314T020000
END:DAYLIGHT
END:VTIMEZONE
BEGIN:VEVENT
UID:20260211T170000AST-1851xwWkcv@https://villageofchesterns.ca/
DTSTAMP:20260421T153557Z
CATEGORIES:Chester Fire Services Committee
DESCRIPTION:<p>&nbsp\;Agendas and minutes:&nbsp\;<a href='https://www.chest
 erfirecommittee.ca/agenda-minutes' target='_blank' rel='noopener'></a><a h
 ref='https://www.chesterfirecommittee.ca/agenda-minutes' target='_blank' r
 el='noopener'>https://www.chesterfirecommittee.ca/agenda-minutes</a></p>\n
 <p>&nbsp\;</p>
DTSTART;TZID=America/Halifax:20260211T170000
DTEND;TZID=America/Halifax:20260211T180000
RRULE:FREQ=MONTHLY;UNTIL=20261209T040000Z;INTERVAL=1;BYDAY=WE;BYSETPOS=2
SUMMARY:Chester Fire Services Committee
URL:https://villageofchesterns.ca/50-chester-fire-services-committee/6025-c
 hester-fire-services-committee.html
X-ALT-DESC;FMTTYPE=TEXT/HTML:<p>&nbsp\;Agendas and minutes:&nbsp\;<a href='
 https://www.chesterfirecommittee.ca/agenda-minutes' target='_blank' rel='n
 oopener'></a><a href='https://www.chesterfirecommittee.ca/agenda-minutes' 
 target='_blank' rel='noopener'>https://www.chesterfirecommittee.ca/agenda-
 minutes</a></p>\n<p>&nbsp\;</p>
END:VEVENT
BEGIN:VEVENT
UID:20260121T180000AST-58262AipcL@https://villageofchesterns.ca/
DTSTAMP:20260421T153557Z
CATEGORIES:Commission
DESCRIPTION:<p>Agendas and minutes:&nbsp\;<a href='commission/meeting-agend
 as-and-minutes.html?own=0'>https://villageofchesterns.ca/commission/meetin
 g-agendas-and-minutes.html?own=0</a></p>\n<p>Meeting livestream and archiv
 e:&nbsp\;<a href='https://www.youtube.com/@villageofchesterns' target='_bl
 ank' rel='noopener'>https://www.youtube.com/@villageofchesterns</a></p>\n<
 p>&nbsp\;</p>
DTSTART;TZID=America/Halifax:20260617T170000
DTEND;TZID=America/Halifax:20260617T180000
SUMMARY:Village Commission Monthly Meeting
URL:https://villageofchesterns.ca/36-commission/6040-village-commission-mon
 thly-meeting.html
X-ALT-DESC;FMTTYPE=TEXT/HTML:<p>Agendas and minutes:&nbsp\;<a href='commiss
 ion/meeting-agendas-and-minutes.html?own=0'>https://villageofchesterns.ca/
 commission/meeting-agendas-and-minutes.html?own=0</a></p>\n<p>Meeting live
 stream and archive:&nbsp\;<a href='https://www.youtube.com/@villageofchest
 erns' target='_blank' rel='noopener'>https://www.youtube.com/@villageofche
 sterns</a></p>\n<p>&nbsp\;</p>
END:VEVENT
BEGIN:VEVENT
UID:20260323T183000ADT-7050v3v42g@https://villageofchesterns.ca/
DTSTAMP:20260421T153557Z
CATEGORIES:Commission
DESCRIPTION:<p>More details to come.</p>
DTSTART;TZID=America/Halifax:20260617T183000
DTEND;TZID=America/Halifax:20260617T183000
SUMMARY:VOC Annual General Meeting 2026
URL:https://villageofchesterns.ca/36-commission/6049-voc-annual-general-mee
 ting-2026.html
X-ALT-DESC;FMTTYPE=TEXT/HTML:<p>More details to come.</p>
END:VEVENT
BEGIN:VEVENT
UID:20260620T110000ADT-1286Uspr3o@https://villageofchesterns.ca/
DTSTAMP:20260421T153557Z
CATEGORIES:Commission
DESCRIPTION:<p>Advance poll open 11:00 am - 7:00 pm</p>\n<p>More informatio
 n to come.&nbsp\;</p>
DTSTART;TZID=America/Halifax:20260620T110000
DTEND;TZID=America/Halifax:20260620T190000
SUMMARY:Election Advance Poll
URL:https://villageofchesterns.ca/36-commission/6051-election-advance-poll.
 html
X-ALT-DESC;FMTTYPE=TEXT/HTML:<p>Advance poll open 11:00 am - 7:00 pm</p>\n<
 p>More information to come.&nbsp\;</p>
END:VEVENT
BEGIN:VEVENT
UID:20260623T090000ADT-1607MKFFZg@https://villageofchesterns.ca/
DTSTAMP:20260421T153557Z
CATEGORIES:Commission
DESCRIPTION:<p>Polls open 9:00 am - 7:00 pm</p>\n<p>Location and details to
  follow.&nbsp\;</p>
DTSTART;TZID=America/Halifax:20260623T090000
DTEND;TZID=America/Halifax:20260623T190000
SUMMARY:Village Election Day 2026
URL:https://villageofchesterns.ca/36-commission/6050-village-election-day-2
 026.html
X-ALT-DESC;FMTTYPE=TEXT/HTML:<p>Polls open 9:00 am - 7:00 pm</p>\n<p>Locati
 on and details to follow.&nbsp\;</p>
END:VEVENT
END:VCALENDAR
