BEGIN:VCALENDAR
VERSION:2.0
PRODID:-//https://villageofchesterns.ca//NONSGML kigkonsult.se iCalcreator 
 2.29.29//
CALSCALE:GREGORIAN
METHOD:PUBLISH
UID:96b09245-8f91-4881-b7da-5a4b4f15c01e
X-WR-CALNAME:JCal Pro Calendar
X-WR-CALDESC:Your online events calendar
X-WR-TIMEZONE:America/Halifax
BEGIN:VTIMEZONE
TZID:America/Halifax
BEGIN:STANDARD
TZNAME:AST
DTSTART:20251102T020000
TZOFFSETFROM:-0300
TZOFFSETTO:-0400
RDATE:20261101T020000
END:STANDARD
BEGIN:DAYLIGHT
TZNAME:ADT
DTSTART:20260308T020000
TZOFFSETFROM:-0400
TZOFFSETTO:-0300
RDATE:20270314T020000
END:DAYLIGHT
END:VTIMEZONE
BEGIN:VEVENT
UID:20250219T170000AST-8769cwfkUu@https://villageofchesterns.ca/
DTSTAMP:20260421T155530Z
CATEGORIES:Commission
DESCRIPTION:<p>Agendas &amp\; minutes are available here: <a href='commissi
 on/meeting-agendas-and-minutes.html?own=0'>https://villageofchesterns.ca/c
 ommission/meeting-agendas-and-minutes.html?own=0</a></p>
DTSTART;TZID=America/Halifax:20250219T170000
DTEND;TZID=America/Halifax:20250219T170000
SUMMARY:Special Commission Meeting
URL:https://villageofchesterns.ca/36-commission/5961-special-commission-mee
 ting.html
X-ALT-DESC;FMTTYPE=TEXT/HTML:<p>Agendas &amp\; minutes are available here: 
 <a href='commission/meeting-agendas-and-minutes.html?own=0'>https://villag
 eofchesterns.ca/commission/meeting-agendas-and-minutes.html?own=0</a></p>
END:VEVENT
BEGIN:VEVENT
UID:20250115T180000AST-3199U6DoA6@https://villageofchesterns.ca/
DTSTAMP:20260421T155530Z
CATEGORIES:Commission
DESCRIPTION:<p>Regular monthly meeting of the Village of Chester Commission
 .</p>\n<p>In-person: 27 Pleasant Street\, Chester<br />Livestream: <a href
 ='https://us02web.zoom.us/j/81480733054' target='_blank' rel='noopener'>Zo
 om</a> or <a href='https://www.youtube.com/@villageofchesterns' target='_b
 lank' rel='noopener'>YouTube Live</a> (meeting videos are also archived on
  YouTube)</p>\n<p>Agendas/minutes are available here: <a href='commission/
 meeting-agendas-and-minutes.html?own=0'>https://villageofchesterns.ca/comm
 ission/meeting-agendas-and-minutes.html?own=0</a></p>\n<p>&nbsp\;</p>
DTSTART;TZID=America/Halifax:20250115T180000
DTEND;TZID=America/Halifax:20250115T180000
RRULE:FREQ=MONTHLY;COUNT=12;INTERVAL=1;BYDAY=WE;BYSETPOS=3
SUMMARY:Village Commission Meeting
URL:https://villageofchesterns.ca/36-commission/5928-village-commission-mee
 ting.html
X-ALT-DESC;FMTTYPE=TEXT/HTML:<p>Regular monthly meeting of the Village of C
 hester Commission.</p>\n<p>In-person: 27 Pleasant Street\, Chester<br />Li
 vestream: <a href='https://us02web.zoom.us/j/81480733054' target='_blank' 
 rel='noopener'>Zoom</a> or <a href='https://www.youtube.com/@villageofches
 terns' target='_blank' rel='noopener'>YouTube Live</a> (meeting videos are
  also archived on YouTube)</p>\n<p>Agendas/minutes are available here: <a 
 href='commission/meeting-agendas-and-minutes.html?own=0'>https://villageof
 chesterns.ca/commission/meeting-agendas-and-minutes.html?own=0</a></p>\n<p
 >&nbsp\;</p>
END:VEVENT
END:VCALENDAR
