BEGIN:VCALENDAR
VERSION:2.0
PRODID:-//https://villageofchesterns.ca//NONSGML kigkonsult.se iCalcreator 
 2.29.29//
CALSCALE:GREGORIAN
METHOD:PUBLISH
UID:d1d8ec93-e927-4ed9-a99e-7bc7963b102f
X-WR-CALNAME:JCal Pro Calendar
X-WR-CALDESC:Your online events calendar
X-WR-TIMEZONE:America/Halifax
BEGIN:VTIMEZONE
TZID:America/Halifax
BEGIN:STANDARD
TZNAME:AST
DTSTART:20251102T020000
TZOFFSETFROM:-0300
TZOFFSETTO:-0400
RDATE:20261101T020000
END:STANDARD
BEGIN:DAYLIGHT
TZNAME:ADT
DTSTART:20260308T020000
TZOFFSETFROM:-0400
TZOFFSETTO:-0300
RDATE:20270314T020000
END:DAYLIGHT
END:VTIMEZONE
BEGIN:VEVENT
UID:20260225T140000AST-005431Z2BC@https://villageofchesterns.ca/
DTSTAMP:20260421T154256Z
CATEGORIES:Commission
DESCRIPTION:<p>Meeting agendas and minutes:&nbsp\;<a href='commission/meeti
 ng-agendas-and-minutes.html?own=0'>https://villageofchesterns.ca/commissio
 n/meeting-agendas-and-minutes.html?own=0</a></p>\n<p>&nbsp\;</p>
DTSTART;TZID=America/Halifax:20260225T140000
DTEND;TZID=America/Halifax:20260225T140000
SUMMARY:Village Commission Special Meeting
URL:https://villageofchesterns.ca/36-commission/6047-village-commission-spe
 cial-meeting.html
X-ALT-DESC;FMTTYPE=TEXT/HTML:<p>Meeting agendas and minutes:&nbsp\;<a href=
 'commission/meeting-agendas-and-minutes.html?own=0'>https://villageofchest
 erns.ca/commission/meeting-agendas-and-minutes.html?own=0</a></p>\n<p>&nbs
 p\;</p>
END:VEVENT
END:VCALENDAR
