BEGIN:VCALENDAR
VERSION:2.0
PRODID:-//https://villageofchesterns.ca//NONSGML kigkonsult.se iCalcreator 
 2.29.29//
CALSCALE:GREGORIAN
METHOD:PUBLISH
UID:9b882605-6179-4372-b3ff-fd6267efac60
X-WR-CALNAME:JCal Pro Calendar
X-WR-CALDESC:Your online events calendar
X-WR-TIMEZONE:America/Halifax
BEGIN:VTIMEZONE
TZID:America/Halifax
BEGIN:STANDARD
TZNAME:AST
DTSTART:20251102T020000
TZOFFSETFROM:-0300
TZOFFSETTO:-0400
RDATE:20261101T020000
END:STANDARD
BEGIN:DAYLIGHT
TZNAME:ADT
DTSTART:20260308T020000
TZOFFSETFROM:-0400
TZOFFSETTO:-0300
RDATE:20270314T020000
END:DAYLIGHT
END:VTIMEZONE
BEGIN:VEVENT
UID:20260121T180000AST-58262AipcL@https://villageofchesterns.ca/
DTSTAMP:20260421T141825Z
CATEGORIES:Commission
DESCRIPTION:<p>Agendas and minutes:&nbsp\;<a href='commission/meeting-agend
 as-and-minutes.html?own=0'>https://villageofchesterns.ca/commission/meetin
 g-agendas-and-minutes.html?own=0</a></p>\n<p>Meeting livestream and archiv
 e:&nbsp\;<a href='https://www.youtube.com/@villageofchesterns' target='_bl
 ank' rel='noopener'>https://www.youtube.com/@villageofchesterns</a></p>\n<
 p>&nbsp\;</p>
DTSTART;TZID=America/Halifax:20260422T180000
DTEND;TZID=America/Halifax:20260422T200000
SUMMARY:Village Commission Monthly Meeting
URL:https://villageofchesterns.ca/36-commission/6038-village-commission-mon
 thly-meeting.html
X-ALT-DESC;FMTTYPE=TEXT/HTML:<p>Agendas and minutes:&nbsp\;<a href='commiss
 ion/meeting-agendas-and-minutes.html?own=0'>https://villageofchesterns.ca/
 commission/meeting-agendas-and-minutes.html?own=0</a></p>\n<p>Meeting live
 stream and archive:&nbsp\;<a href='https://www.youtube.com/@villageofchest
 erns' target='_blank' rel='noopener'>https://www.youtube.com/@villageofche
 sterns</a></p>\n<p>&nbsp\;</p>
END:VEVENT
END:VCALENDAR
